BEGIN:VCALENDAR
VERSION:2.0
PRODID:-//eventon.com NONSGML v1.0//EN
CALSCALE:GREGORIAN
METHOD:PUBLISH
BEGIN:VEVENT
UID:69e8baef9ed09
DTSTAMP:20260422T121127Z
DTSTART:20241212T173000Z
DTEND:20241212T220000Z
LOCATION:
SUMMARY:Wintergrillen
DESCRIPTION:Wintergrillen\nhttps://gelaendefahrrad-aachen.de/events/winterg
 rillen-3/
URL:https://gelaendefahrrad-aachen.de/events/wintergrillen-3/
END:VEVENT
END:VCALENDAR