BEGIN:VCALENDAR
VERSION:2.0
PRODID:-//eventon.com NONSGML v1.0//EN
CALSCALE:GREGORIAN
METHOD:PUBLISH
BEGIN:VEVENT
UID:69e9ebed7117c
DTSTAMP:20260423T095245Z
DTSTART:20211014T160000Z
DTEND:20211014T200000Z
LOCATION:
SUMMARY:GFAC Stammtisch
DESCRIPTION:GFAC Stammtisch\nhttps://gelaendefahrrad-aachen.de/events/gfac-
 stammtisch/var/ri-1.l-L1
URL:https://gelaendefahrrad-aachen.de/events/gfac-stammtisch/var/ri-1.l-L1
END:VEVENT
END:VCALENDAR