BEGIN:VCALENDAR
VERSION:2.0
PRODID:-//eventon.com NONSGML v1.0//EN
CALSCALE:GREGORIAN
METHOD:PUBLISH
BEGIN:VEVENT
UID:69ea0074e0d99
DTSTAMP:20260423T112020Z
DTSTART:20210924
DTEND:20210926
LOCATION:Bikepark Q24G+83 Aachen
SUMMARY:Vereinsmeisterschaft 2021
DESCRIPTION:Am 25.09.2021 findet unsere diesjährige Vereinsmeisterschaft s
 tatt. Wir suchen die Besten in verschiedenen Klassen\,  aber: Dabei sein is
 t alles! Du musst kein Profi sein\,  um teilnehmen zu können! Alle Infos u
 nd den Link zur Anmeldung findest du in der Rundmail vom 17.08.2021. Wir fr
 euen uns auf deine Teilnahme! Hier geht[..]\nhttps://gelaendefahrrad-aachen
 .de/events/vereinsmeisterschaft-2021/
URL:https://gelaendefahrrad-aachen.de/events/vereinsmeisterschaft-2021/
END:VEVENT
END:VCALENDAR