BEGIN:VCALENDAR
VERSION:2.0
PRODID:-//eventon.com NONSGML v1.0//EN
CALSCALE:GREGORIAN
METHOD:PUBLISH
BEGIN:VEVENT
UID:69ea322a3c3d5
DTSTAMP:20260423T145226Z
DTSTART:20210520T163000Z
DTEND:20210520T200000Z
LOCATION:
SUMMARY:Vorstandssitzung
DESCRIPTION:Vorstandssitzung\nhttps://gelaendefahrrad-aachen.de/events/vors
 tandssitzung/
URL:https://gelaendefahrrad-aachen.de/events/vorstandssitzung/
END:VEVENT
END:VCALENDAR